BEGIN:VCALENDAR
VERSION:2.0
PRODID:-//Backflow Prevention - Cross Connection Control Foundation - ECPv6.15.20//NONSGML v1.0//EN
CALSCALE:GREGORIAN
METHOD:PUBLISH
X-ORIGINAL-URL:https://cccfnf.com
X-WR-CALDESC:Events for Backflow Prevention - Cross Connection Control Foundation
REFRESH-INTERVAL;VALUE=DURATION:PT1H
X-Robots-Tag:noindex
X-PUBLISHED-TTL:PT1H
BEGIN:VTIMEZONE
TZID:America/New_York
BEGIN:DAYLIGHT
TZOFFSETFROM:-0500
TZOFFSETTO:-0400
TZNAME:EDT
DTSTART:20210314T070000
END:DAYLIGHT
BEGIN:STANDARD
TZOFFSETFROM:-0400
TZOFFSETTO:-0500
TZNAME:EST
DTSTART:20211107T060000
END:STANDARD
BEGIN:DAYLIGHT
TZOFFSETFROM:-0500
TZOFFSETTO:-0400
TZNAME:EDT
DTSTART:20220313T070000
END:DAYLIGHT
BEGIN:STANDARD
TZOFFSETFROM:-0400
TZOFFSETTO:-0500
TZNAME:EST
DTSTART:20221106T060000
END:STANDARD
BEGIN:DAYLIGHT
TZOFFSETFROM:-0500
TZOFFSETTO:-0400
TZNAME:EDT
DTSTART:20230312T070000
END:DAYLIGHT
BEGIN:STANDARD
TZOFFSETFROM:-0400
TZOFFSETTO:-0500
TZNAME:EST
DTSTART:20231105T060000
END:STANDARD
END:VTIMEZONE
BEGIN:VEVENT
DTSTART;TZID=America/New_York:20220822T090000
DTEND;TZID=America/New_York:20220822T173000
DTSTAMP:20260420T061625
CREATED:20220719T161707Z
LAST-MODIFIED:20220719T161707Z
UID:1028-1661158800-1661189400@cccfnf.com
SUMMARY:Initial Class
DESCRIPTION:
URL:https://cccfnf.com/calendar/initial-class-14/
LOCATION:MCC Applied Tech. Center\, 2485 West Henrietta Road\, Rochester\, NY\, 14623\, United States
END:VEVENT
BEGIN:VEVENT
DTSTART;TZID=America/New_York:20220823T090000
DTEND;TZID=America/New_York:20220823T173000
DTSTAMP:20260420T061625
CREATED:20220719T161906Z
LAST-MODIFIED:20220719T161906Z
UID:1030-1661245200-1661275800@cccfnf.com
SUMMARY:Initial Class
DESCRIPTION:
URL:https://cccfnf.com/calendar/initial-class-15/
LOCATION:MCC Applied Tech. Center\, 2485 West Henrietta Road\, Rochester\, NY\, 14623\, United States
END:VEVENT
BEGIN:VEVENT
DTSTART;TZID=America/New_York:20220824T090000
DTEND;TZID=America/New_York:20220824T173000
DTSTAMP:20260420T061625
CREATED:20220719T162003Z
LAST-MODIFIED:20220719T162003Z
UID:1032-1661331600-1661362200@cccfnf.com
SUMMARY:Initial Class
DESCRIPTION:
URL:https://cccfnf.com/calendar/initial-class-16/
LOCATION:MCC Applied Tech. Center\, 2485 West Henrietta Road\, Rochester\, NY\, 14623\, United States
END:VEVENT
BEGIN:VEVENT
DTSTART;TZID=America/New_York:20220825T090000
DTEND;TZID=America/New_York:20220825T173000
DTSTAMP:20260420T061625
CREATED:20220719T162631Z
LAST-MODIFIED:20220719T162631Z
UID:1038-1661418000-1661448600@cccfnf.com
SUMMARY:Initial Class
DESCRIPTION:
URL:https://cccfnf.com/calendar/initial-class-18/
LOCATION:MCC Applied Tech. Center\, 2485 West Henrietta Road\, Rochester\, NY\, 14623\, United States
END:VEVENT
BEGIN:VEVENT
DTSTART;TZID=America/New_York:20220826T090000
DTEND;TZID=America/New_York:20220826T173000
DTSTAMP:20260420T061625
CREATED:20220719T162053Z
LAST-MODIFIED:20220719T162434Z
UID:1034-1661504400-1661535000@cccfnf.com
SUMMARY:Recertification Class
DESCRIPTION:
URL:https://cccfnf.com/calendar/initial-class-17/
LOCATION:MCC Applied Tech. Center\, 2485 West Henrietta Road\, Rochester\, NY\, 14623\, United States
END:VEVENT
END:VCALENDAR