BEGIN:VCALENDAR
VERSION:2.0
PRODID:-//Backflow Prevention - Cross Connection Control Foundation - ECPv6.15.20//NONSGML v1.0//EN
CALSCALE:GREGORIAN
METHOD:PUBLISH
X-ORIGINAL-URL:https://cccfnf.com
X-WR-CALDESC:Events for Backflow Prevention - Cross Connection Control Foundation
REFRESH-INTERVAL;VALUE=DURATION:PT1H
X-Robots-Tag:noindex
X-PUBLISHED-TTL:PT1H
BEGIN:VTIMEZONE
TZID:America/New_York
BEGIN:DAYLIGHT
TZOFFSETFROM:-0500
TZOFFSETTO:-0400
TZNAME:EDT
DTSTART:20210314T070000
END:DAYLIGHT
BEGIN:STANDARD
TZOFFSETFROM:-0400
TZOFFSETTO:-0500
TZNAME:EST
DTSTART:20211107T060000
END:STANDARD
BEGIN:DAYLIGHT
TZOFFSETFROM:-0500
TZOFFSETTO:-0400
TZNAME:EDT
DTSTART:20220313T070000
END:DAYLIGHT
BEGIN:STANDARD
TZOFFSETFROM:-0400
TZOFFSETTO:-0500
TZNAME:EST
DTSTART:20221106T060000
END:STANDARD
BEGIN:DAYLIGHT
TZOFFSETFROM:-0500
TZOFFSETTO:-0400
TZNAME:EDT
DTSTART:20230312T070000
END:DAYLIGHT
BEGIN:STANDARD
TZOFFSETFROM:-0400
TZOFFSETTO:-0500
TZNAME:EST
DTSTART:20231105T060000
END:STANDARD
END:VTIMEZONE
BEGIN:VEVENT
DTSTART;TZID=America/New_York:20220909T090000
DTEND;TZID=America/New_York:20220909T173000
DTSTAMP:20260420T080028
CREATED:20220126T213651Z
LAST-MODIFIED:20220126T213651Z
UID:913-1662714000-1662744600@cccfnf.com
SUMMARY:Recertification Class
DESCRIPTION:
URL:https://cccfnf.com/calendar/recertification-class-13/
LOCATION:MCC Applied Tech. Center\, 2485 West Henrietta Road\, Rochester\, NY\, 14623\, United States
END:VEVENT
BEGIN:VEVENT
DTSTART;TZID=America/New_York:20220912T090000
DTEND;TZID=America/New_York:20220915T173000
DTSTAMP:20260420T080028
CREATED:20220126T213307Z
LAST-MODIFIED:20220126T213307Z
UID:909-1662973200-1663263000@cccfnf.com
SUMMARY:Initial Class
DESCRIPTION:
URL:https://cccfnf.com/calendar/initial-class-10/
LOCATION:MCC Applied Tech. Center\, 2485 West Henrietta Road\, Rochester\, NY\, 14623\, United States
END:VEVENT
BEGIN:VEVENT
DTSTART;TZID=America/New_York:20220916T090000
DTEND;TZID=America/New_York:20220916T173000
DTSTAMP:20260420T080028
CREATED:20220126T213410Z
LAST-MODIFIED:20220126T213436Z
UID:911-1663318800-1663349400@cccfnf.com
SUMMARY:Recertification Class
DESCRIPTION:
URL:https://cccfnf.com/calendar/recertification-class-12/
LOCATION:MCC Applied Tech. Center\, 2485 West Henrietta Road\, Rochester\, NY\, 14623\, United States
END:VEVENT
END:VCALENDAR