BEGIN:VCALENDAR
VERSION:2.0
PRODID:-//Backflow Prevention - Cross Connection Control Foundation - ECPv6.15.20//NONSGML v1.0//EN
CALSCALE:GREGORIAN
METHOD:PUBLISH
X-ORIGINAL-URL:https://cccfnf.com
X-WR-CALDESC:Events for Backflow Prevention - Cross Connection Control Foundation
REFRESH-INTERVAL;VALUE=DURATION:PT1H
X-Robots-Tag:noindex
X-PUBLISHED-TTL:PT1H
BEGIN:VTIMEZONE
TZID:America/New_York
BEGIN:DAYLIGHT
TZOFFSETFROM:-0500
TZOFFSETTO:-0400
TZNAME:EDT
DTSTART:20230312T070000
END:DAYLIGHT
BEGIN:STANDARD
TZOFFSETFROM:-0400
TZOFFSETTO:-0500
TZNAME:EST
DTSTART:20231105T060000
END:STANDARD
BEGIN:DAYLIGHT
TZOFFSETFROM:-0500
TZOFFSETTO:-0400
TZNAME:EDT
DTSTART:20240310T070000
END:DAYLIGHT
BEGIN:STANDARD
TZOFFSETFROM:-0400
TZOFFSETTO:-0500
TZNAME:EST
DTSTART:20241103T060000
END:STANDARD
BEGIN:DAYLIGHT
TZOFFSETFROM:-0500
TZOFFSETTO:-0400
TZNAME:EDT
DTSTART:20250309T070000
END:DAYLIGHT
BEGIN:STANDARD
TZOFFSETFROM:-0400
TZOFFSETTO:-0500
TZNAME:EST
DTSTART:20251102T060000
END:STANDARD
END:VTIMEZONE
BEGIN:VEVENT
DTSTART;TZID=America/New_York:20240607T080000
DTEND;TZID=America/New_York:20240607T163000
DTSTAMP:20260420T042222
CREATED:20231019T172909Z
LAST-MODIFIED:20231019T172909Z
UID:1245-1717747200-1717777800@cccfnf.com
SUMMARY:Recertification Class
DESCRIPTION:
URL:https://cccfnf.com/calendar/recertification-class-28/
LOCATION:MCC Applied Tech. Center\, 2485 West Henrietta Road\, Rochester\, NY\, 14623\, United States
END:VEVENT
BEGIN:VEVENT
DTSTART;TZID=America/New_York:20240610T080000
DTEND;TZID=America/New_York:20240610T163000
DTSTAMP:20260420T042222
CREATED:20231019T183821Z
LAST-MODIFIED:20231019T183821Z
UID:1289-1718006400-1718037000@cccfnf.com
SUMMARY:Initial Class
DESCRIPTION:
URL:https://cccfnf.com/calendar/initial-class-35/
LOCATION:MCC Applied Tech. Center\, 2485 West Henrietta Road\, Rochester\, NY\, 14623\, United States
END:VEVENT
BEGIN:VEVENT
DTSTART;TZID=America/New_York:20240611T080000
DTEND;TZID=America/New_York:20240611T163000
DTSTAMP:20260420T042222
CREATED:20231019T184410Z
LAST-MODIFIED:20231019T184410Z
UID:1293-1718092800-1718123400@cccfnf.com
SUMMARY:Initial Class
DESCRIPTION:
URL:https://cccfnf.com/calendar/initial-class-37/
LOCATION:MCC Applied Tech. Center\, 2485 West Henrietta Road\, Rochester\, NY\, 14623\, United States
END:VEVENT
BEGIN:VEVENT
DTSTART;TZID=America/New_York:20240612T080000
DTEND;TZID=America/New_York:20240612T163000
DTSTAMP:20260420T042222
CREATED:20231019T184508Z
LAST-MODIFIED:20231019T184508Z
UID:1295-1718179200-1718209800@cccfnf.com
SUMMARY:Initial Class
DESCRIPTION:
URL:https://cccfnf.com/calendar/initial-class-38/
LOCATION:MCC Applied Tech. Center\, 2485 West Henrietta Road\, Rochester\, NY\, 14623\, United States
END:VEVENT
BEGIN:VEVENT
DTSTART;TZID=America/New_York:20240613T080000
DTEND;TZID=America/New_York:20240613T163000
DTSTAMP:20260420T042222
CREATED:20231019T184045Z
LAST-MODIFIED:20231019T184045Z
UID:1291-1718265600-1718296200@cccfnf.com
SUMMARY:Initial Class
DESCRIPTION:
URL:https://cccfnf.com/calendar/initial-class-36/
LOCATION:MCC Applied Tech. Center\, 2485 West Henrietta Road\, Rochester\, NY\, 14623\, United States
END:VEVENT
BEGIN:VEVENT
DTSTART;TZID=America/New_York:20240614T080000
DTEND;TZID=America/New_York:20240614T163000
DTSTAMP:20260420T042222
CREATED:20231019T173016Z
LAST-MODIFIED:20231019T173016Z
UID:1247-1718352000-1718382600@cccfnf.com
SUMMARY:Recertification Class
DESCRIPTION:
URL:https://cccfnf.com/calendar/recertification-class-29/
LOCATION:MCC Applied Tech. Center\, 2485 West Henrietta Road\, Rochester\, NY\, 14623\, United States
END:VEVENT
END:VCALENDAR